Workbook
Name _ftn1: 'Podaci-izvannastavne aktivnosti'!#REF!
Name _ftn1: Pokazatelji!#REF!
Name _ftn1: 'PROVJERA - Troškovnik'!#REF!
Name _ftn1: 'Troškovnik '!#REF!
Name _ftnref1: 'Podaci-izvannastavne aktivnosti'!#REF!
Name _ftnref1: Pokazatelji!#REF!
Name _ftnref1: 'PROVJERA - Troškovnik'!#REF!
Name _ftnref1: 'Troškovnik '!#REF!

Sheet Pokazatelji
W1: Ustanova | X1: Broj učenika
B2: Poziv na dostavu projektnih prijedloga Podrška osnovnim školama za provedbu izvannastavnih aktivnosti kao pripreme za program cjelodnevne škole - drugi Poziv | W2: 01-032-002 0-0 OSNOVNA ŠKOLA STJEPANA BASARIČEKA | X2: 308
B3: Obrazac 3. - Podaci o izvannastavnim aktivnostima koje će se provoditi u sklopu projekta - POKAZATELJI | W3: 01-033-001 2-1 OSNOVNA ŠKOLA LJUBO BABIĆ - PODRUČNA ŠKOLA CVETKOVIĆ | X3: 83
B4: Naziv škole (matične/područne) u kojoj će se u sklopu projekta provoditi izvannastavne aktivnosti i/ili čiji će učenici sudjelovati u izvannastavnim aktivnostima | C4: Broj učenika u školskoj godini 2026./2027. koji nastavu pohađaju u jednoj smjeni | E4: POKAZATELJI SPECIFIČNOG CILJA | F4: Minimalna vrijednost (broj) | G4: Ciljna vrijednost (broj) | H4: Postotak u odnosu na ukupni broj učenika u školskoj godini 2026./2027. koji nastavu pohađaju u jednoj smjeni u školama uključenim u projekt | W4: 01-033-001 2-3 OSNOVNA ŠKOLA LJUBO BABIĆ - PODRUČNA ŠKOLA DOMAGOVIĆ | X4: 16
B5: < odaberite iz padajućeg izbornika > | C5: < podaci se automatski preuzimaju iz ŠeR-a > | E5: < automatski izračun nakon unosa podataka o školama u kojima će se u sklopu projekta provoditi izvannastavne aktivnosti > | G5: < upišite broj učenika > | H5: < automatski izračun > | W5: 01-033-001 2-4 OSNOVNA ŠKOLA LJUBO BABIĆ - PODRUČNA ŠKOLA PETROVINA | X5: 22
A6: =LEFT(B6,10) | C6: =IF(B6="","",VLOOKUP(B6,W:X,2,FALSE)) | E6: SF.2.4.06.14-01 Broj osnovnoškolskih odgojno-obrazovnih ustanova koje primaju potporu | F6: 1 | G6: =COUNTA(_xlfn.UNIQUE(A6:A151))-1 -> 0 | H6: n/p | W6: 01-033-001 2-5 OSNOVNA ŠKOLA LJUBO BABIĆ - PODRUČNA ŠKOLA PLEŠIVICA | X6: 10
A7: =LEFT(B7,10) | C7: =IF(B7="","",VLOOKUP(B7,W:X,2,FALSE)) | E7: SF.2.4.06.14-02 Broj učenika koji su sudjelovali u izvannastavnim aktivnostima u školskoj godini 2026./2027. | F7: =IF(SUM($C$6:$C$151)=0,"",ROUNDUP(0.4*SUM($C$6:$C$151),0)) | H7: =IF(G7="","",G7/SUM(C6:C151)) | W7: 01-033-001 2-6 OSNOVNA ŠKOLA LJUBO BABIĆ - PODRUČNA ŠKOLA SVETA JANA | X7: 26
A8: =LEFT(B8,10) | C8: =IF(B8="","",VLOOKUP(B8,W:X,2,FALSE)) | E8: SF.2.4.06.14-03 Broj učenika koji su sudjelovali u izvannastavnim aktivnostima u školskoj godini 2027./2028. | F8: =IF(SUM($C$6:$C$151)=0,"",ROUNDUP(0.4*SUM($C$6:$C$151),0)) | H8: =IF(G8="","",G8/SUM(C6:C151)) | W8: 01-033-001 2-7 OSNOVNA ŠKOLA LJUBO BABIĆ - PODRUČNA ŠKOLA VOLAVJE | X8: 14
A9: =LEFT(B9,10) | C9: =IF(B9="","",VLOOKUP(B9,W:X,2,FALSE)) | W9: 01-033-001 2-8 OSNOVNA ŠKOLA LJUBO BABIĆ - PODRUČNA ŠKOLA ČEGLJE | X9: 21
A10: =LEFT(B10,10) | C10: =IF(B10="","",VLOOKUP(B10,W:X,2,FALSE)) | W10: 01-073-002 0-0 OSNOVNA ŠKOLA MIHAELA ŠILOBODA | X10: 266
A11: =LEFT(B11,10) | C11: =IF(B11="","",VLOOKUP(B11,W:X,2,FALSE)) | W11: 01-073-002 2-1 OSNOVNA ŠKOLA MIHAELA ŠILOBODA - PODRUČNA ŠKOLA KLAKE | X11: 13
A12: =LEFT(B12,10) | C12: =IF(B12="","",VLOOKUP(B12,W:X,2,FALSE)) | W12: 01-073-002 2-2 OSNOVNA ŠKOLA MIHAELA ŠILOBODA - PODRUČNA ŠKOLA PAVUČNJAK | X12: 22
A13: =LEFT(B13,10) | C13: =IF(B13="","",VLOOKUP(B13,W:X,2,FALSE)) | W13: 01-073-002 2-3 OSNOVNA ŠKOLA MIHAELA ŠILOBODA - PODRUČNA ŠKOLA RAKOV POTOK | X13: 39
A14: =LEFT(B14,10) | C14: =IF(B14="","",VLOOKUP(B14,W:X,2,FALSE)) | W14: 01-073-003 2-1 OSNOVNA ŠKOLA SAMOBOR - PODRUČNA ŠKOLA CELINE | X14: 48
A15: =LEFT(B15,10) | C15: =IF(B15="","",VLOOKUP(B15,W:X,2,FALSE)) | W15: 01-073-005 0-0 OSNOVNA ŠKOLA NOVA ŠKOLA | X15: 100
A16: =LEFT(B16,10) | C16: =IF(B16="","",VLOOKUP(B16,W:X,2,FALSE)) | W16: 01-073-006 2-1 OSNOVNA ŠKOLA RUDE - PODRUČNA ŠKOLA MANJA VAS | X16: 19
A17: =LEFT(B17,10) | C17: =IF(B17="","",VLOOKUP(B17,W:X,2,FALSE)) | W17: 01-087-001 2-2 OSNOVNA ŠKOLA EUGENA KVATERNIKA - PODRUČNA ŠKOLA DUBRANEC | X17: 64
A18: =LEFT(B18,10) | C18: =IF(B18="","",VLOOKUP(B18,W:X,2,FALSE)) | W18: 01-087-001 2-3 OSNOVNA ŠKOLA EUGENA KVATERNIKA - PODRUČNA ŠKOLA LUKAVEC | X18: 40
A19: =LEFT(B19,10) | C19: =IF(B19="","",VLOOKUP(B19,W:X,2,FALSE)) | W19: 01-087-007 2-1 OSNOVNA ŠKOLA NOVO ČIČE - PODRUČNA ŠKOLA BUKEVJE | X19: 57
A20: =LEFT(B20,10) | C20: =IF(B20="","",VLOOKUP(B20,W:X,2,FALSE)) | W20: 01-087-007 2-2 OSNOVNA ŠKOLA NOVO ČIČE - PODRUČNA ŠKOLA VELEŠEVEC | X20: 26
... A151: =LEFT(B151,10) | C151: =IF(B151="","",VLOOKUP(B151,W:X,2,FALSE)) | W151: 03-190-001 2-2 OSNOVNA ŠKOLA JOSIPA KOZARCA - PODRUČNA ŠKOLA KRALJEVA VELIKA | X151: 2
W152: 03-190-001 2-4 OSNOVNA ŠKOLA JOSIPA KOZARCA - PODRUČNA ŠKOLA NOVA SUBOCKA | X152: 18
W153: 03-190-001 2-5 OSNOVNA ŠKOLA JOSIPA KOZARCA - PODRUČNA ŠKOLA PILJENICE | X153: 6
W154: 03-190-001 2-6 OSNOVNA ŠKOLA JOSIPA KOZARCA - PODRUČNA ŠKOLA STARA SUBOCKA | X154: 13
W155: 03-191-001 2-1 OSNOVNA ŠKOLA MLADOST - PODRUČNA ŠKOLA FARKAŠIĆ | X155: 3
W156: 03-191-001 2-2 OSNOVNA ŠKOLA MLADOST - PODRUČNA ŠKOLA LETOVANIĆ | X156: 5
W157: 03-192-001 0-0 OSNOVNA ŠKOLA BRAĆA RADIĆ | X157: 104
W158: 03-193-001 0-0 OSNOVNA ŠKOLA JASENOVAC | X158: 75
W159: 03-193-001 2-1 OSNOVNA ŠKOLA JASENOVAC - PODRUČNA ŠKOLA PUSKA | X159: 6
W160: 03-194-001 0-0 OSNOVNA ŠKOLA JABUKOVAC | X160: 45
W161: 03-195-001 0-0 OSNOVNA ŠKOLA POPOVAČA | X161: 322
W162: 03-195-001 2-1 OSNOVNA ŠKOLA POPOVAČA - PODRUČNA ŠKOLA GORNJA JELENSKA | X162: 24
W163: 03-195-001 2-3 OSNOVNA ŠKOLA POPOVAČA - PODRUČNA ŠKOLA POTOK | X163: 12
... W1458: 21-114-632 0-0 MEĐUNARODNA BRITANSKA ŠKOLA "VEDRI OBZORI" | X1458: 151

Sheet Podaci-izvannastavne aktivnosti
AM1: Sportski i tjelesni razvoj
A2: Poziv na dostavu projektnih prijedloga Podrška osnovnim školama za provedbu izvannastavnih aktivnosti kao pripreme za program cjelodnevne škole - drugi Poziv | AM2: Razvoj kreativnih i umjetničkih kompetencija
A3: Obrazac 3. - Podaci o izvannastavnim aktivnostima koji će se provoditi u sklopu projekta | AM3: Razvoj digitalnih, informatičkih, odnosno kompetencija povezanih s uporabom novih tehnologija
A4: Lokacija provedbe | B4: Izvannastavna aktivnost, po skupini | I4: Vrsta aktivnosti | AM4: Razvoj osobnih, socijalnih, interpersonalnih vještina
A5: Naziv škole u kojoj se provodi izvannastavna aktivnost | B5: Naziv izvannastavne aktivnosti/skupine | C5: Je li provedba planirana u školskoj godini 2026./2027.? | D5: Predviđeni broj učenika u skupini koji će pohađati izvannastavnu aktivnost u šk. god. 2026./2027. | E5: Je li provedba planirana u školskoj godini 2027./2028.? | F5: Predviđeni broj učenika u skupini koji će pohađati izvannastavnu aktivnost u šk. god. 2027./2028. | G5: Ako primjenjivo, razlog formiranja skupine s manje od 8 učenika | H5: Broj skupina ovisno provodi li se aktivnost u školskoj godini 2026./2027. i/ili 2027./2028. | I5: Kategorija aktivnosti | J5: Doprinos aktivnosti horizontalnim načelima | K5: Opis doprinosa horizontalnom načelu | L5: Predviđa li se organizacija volontiranja učenika u lokalnoj zajednici? | M5: Opis doprinosa lokalnoj zajednici kroz volontiranje učenika ili druge aktivnosti usmjerene na poticanje ili promicanje volonterstva kojima se uspostavlja suradnja s lokalom zajednicom | N5: Je li se izvannastavna aktivnost provodila prethodne školske godine (2025./2026.) | O5: Ukupni trošak izvannastavne aktivnosti, po skupini (EUR) | P5: Ukupni troškovi organizacije i provedbe izvannastavnih aktivnosti | Q5: Ukupni broj skupina (MJERLJIVI ISHOD) | R5: Prosječni trošak organizacije i provedbe izvannastavne aktivnosti, po skupini | AM5: Dodatna pomoć u učenju, odnosno razvoj kompetencija i vještina učenja
A6: < odaberite iz padajućeg izbornika temeljenog na kartici Pokazatelji > | B6: < upišite naziv > | C6: < odaberite DA/NE > | D6: < upišite ako je planirana provedba u šk. god. 2026./2027. > | E6: < odaberite DA/NE > | F6: < upišite ako je planirana provedba u šk. god. 2026./2027. > | G6: < ako primjenjivo, odaberite iz padajućeg izbornika > | H6: < automatski izračun > | I6: < odaberite iz padajućeg izbornika > | J6: < odaberite iz padajućeg izbornika > | K6: < ako primjenjivo, opišite doprinos odabranom horizontalnom načelu (npr. opis integracije IKT-a u provedbi; aktivnosti/tema kojima se potiče ekološka osviještenost; aktivnosti/tema vezanih za nediskriminaciju povrh osiguravanja pristupa svim učenicima prema interesu) > | L6: < odaberite DA/NE > | M6: < ako primjenjivo, opišite doprinos lokalnoj zajednici > | N6: < odaberite DA/NE > | O6: < automatski izračun nakon popunjavanja kartice Troškovnik > | S6: =IF(P7=SUM('Troškovnik '!H:H),"","Ukupni troškovi po izvannastavnoj aktivnosti ne odgovaraju ukupnim troškovima u kartici Troškovnik - provjeriti nazive škola i izvannastavnih aktivnosti koje se u njima provode!") | AM6: Intelektualni napredak i razvoj
H7: =IF(OR(C7="DA",E7="DA"),COUNTIF(C7:E7,"DA"),"") | O7: =SUMIFS('Troškovnik '!H:H,'Troškovnik '!A:A,A7,'Troškovnik '!B:B,B7) -> 0 | P7: =SUM(O7:O1577) -> 0 | Q7: =SUM(H:H) -> 0 | R7: =IF(Q7=0,"",P7/Q7) | AM7: Razvoj specifičnih kompetencija
H8: =IF(OR(C8="DA",E8="DA"),COUNTIF(C8:E8,"DA"),"") | O8: =SUMIFS('Troškovnik '!H:H,'Troškovnik '!A:A,A8,'Troškovnik '!B:B,B8) -> 0 | Q8: =IF(Q7<20,"minimalna vrijednost mjerljivog ishoda je 20","") -> minimalna vrijednost mjerljivog ishoda je 20
H9: =IF(OR(C9="DA",E9="DA"),COUNTIF(C9:E9,"DA"),"") | O9: =SUMIFS('Troškovnik '!H:H,'Troškovnik '!A:A,A9,'Troškovnik '!B:B,B9) -> 0
H10: =IF(OR(C10="DA",E10="DA"),COUNTIF(C10:E10,"DA"),"") | O10: =SUMIFS('Troškovnik '!H:H,'Troškovnik '!A:A,A10,'Troškovnik '!B:B,B10) -> 0 | AM10: DA
H11: =IF(OR(C11="DA",E11="DA"),COUNTIF(C11:E11,"DA"),"") | O11: =SUMIFS('Troškovnik '!H:H,'Troškovnik '!A:A,A11,'Troškovnik '!B:B,B11) -> 0 | AM11: NE
H12: =IF(OR(C12="DA",E12="DA"),COUNTIF(C12:E12,"DA"),"") | O12: =SUMIFS('Troškovnik '!H:H,'Troškovnik '!A:A,A12,'Troškovnik '!B:B,B12) -> 0
H13: =IF(OR(C13="DA",E13="DA"),COUNTIF(C13:E13,"DA"),"") | O13: =SUMIFS('Troškovnik '!H:H,'Troškovnik '!A:A,A13,'Troškovnik '!B:B,B13) -> 0
H14: =IF(OR(C14="DA",E14="DA"),COUNTIF(C14:E14,"DA"),"") | O14: =SUMIFS('Troškovnik '!H:H,'Troškovnik '!A:A,A14,'Troškovnik '!B:B,B14) -> 0 | AM14: nije primjenjivo
H15: =IF(OR(C15="DA",E15="DA"),COUNTIF(C15:E15,"DA"),"") | O15: =SUMIFS('Troškovnik '!H:H,'Troškovnik '!A:A,A15,'Troškovnik '!B:B,B15) -> 0 | AM15: aktivnost se provodi u školi s manje od 10 učenika
H16: =IF(OR(C16="DA",E16="DA"),COUNTIF(C16:E16,"DA"),"") | O16: =SUMIFS('Troškovnik '!H:H,'Troškovnik '!A:A,A16,'Troškovnik '!B:B,B16) -> 0 | AM16: aktivnost se provodi u odgojno-obrazovnoj ustanovi
H17: =IF(OR(C17="DA",E17="DA"),COUNTIF(C17:E17,"DA"),"") | O17: =SUMIFS('Troškovnik '!H:H,'Troškovnik '!A:A,A17,'Troškovnik '!B:B,B17) -> 0 | AM17: aktivnost se provodi u posebnom razrednom odjelu za učenike s teškoćama u razvoju
H18: =IF(OR(C18="DA",E18="DA"),COUNTIF(C18:E18,"DA"),"") | O18: =SUMIFS('Troškovnik '!H:H,'Troškovnik '!A:A,A18,'Troškovnik '!B:B,B18) -> 0
H19: =IF(OR(C19="DA",E19="DA"),COUNTIF(C19:E19,"DA"),"") | O19: =SUMIFS('Troškovnik '!H:H,'Troškovnik '!A:A,A19,'Troškovnik '!B:B,B19) -> 0
H20: =IF(OR(C20="DA",E20="DA"),COUNTIF(C20:E20,"DA"),"") | O20: =SUMIFS('Troškovnik '!H:H,'Troškovnik '!A:A,A20,'Troškovnik '!B:B,B20) -> 0
H21: =IF(OR(C21="DA",E21="DA"),COUNTIF(C21:E21,"DA"),"") | O21: =SUMIFS('Troškovnik '!H:H,'Troškovnik '!A:A,A21,'Troškovnik '!B:B,B21) -> 0 | AM21: neutralan doprinos
H22: =IF(OR(C22="DA",E22="DA"),COUNTIF(C22:E22,"DA"),"") | O22: =SUMIFS('Troškovnik '!H:H,'Troškovnik '!A:A,A22,'Troškovnik '!B:B,B22) -> 0 | AM22: program u području razvoja digitalnih vještina
H23: =IF(OR(C23="DA",E23="DA"),COUNTIF(C23:E23,"DA"),"") | O23: =SUMIFS('Troškovnik '!H:H,'Troškovnik '!A:A,A23,'Troškovnik '!B:B,B23) -> 0 | AM23: program u području razvoja ekološke osviještenosti
H24: =IF(OR(C24="DA",E24="DA"),COUNTIF(C24:E24,"DA"),"") | O24: =SUMIFS('Troškovnik '!H:H,'Troškovnik '!A:A,A24,'Troškovnik '!B:B,B24) -> 0 | AM24: program u području razvoja osobnih, socijalnih i interpersonalnih vještina kojim se potiču teme nediskriminacije i/ili ravnopravnosti spolova
H25: =IF(OR(C25="DA",E25="DA"),COUNTIF(C25:E25,"DA"),"") | O25: =SUMIFS('Troškovnik '!H:H,'Troškovnik '!A:A,A25,'Troškovnik '!B:B,B25) -> 0 | AM25: program usmjeren na podršku učenicima s teškoćama u razvoju i/ili pomoć u učenju
H26: =IF(OR(C26="DA",E26="DA"),COUNTIF(C26:E26,"DA"),"") | O26: =SUMIFS('Troškovnik '!H:H,'Troškovnik '!A:A,A26,'Troškovnik '!B:B,B26) -> 0
H27: =IF(OR(C27="DA",E27="DA"),COUNTIF(C27:E27,"DA"),"") | O27: =SUMIFS('Troškovnik '!H:H,'Troškovnik '!A:A,A27,'Troškovnik '!B:B,B27) -> 0
H28: =IF(OR(C28="DA",E28="DA"),COUNTIF(C28:E28,"DA"),"") | O28: =SUMIFS('Troškovnik '!H:H,'Troškovnik '!A:A,A28,'Troškovnik '!B:B,B28) -> 0
H29: =IF(OR(C29="DA",E29="DA"),COUNTIF(C29:E29,"DA"),"") | O29: =SUMIFS('Troškovnik '!H:H,'Troškovnik '!A:A,A29,'Troškovnik '!B:B,B29) -> 0
H30: =IF(OR(C30="DA",E30="DA"),COUNTIF(C30:E30,"DA"),"") | O30: =SUMIFS('Troškovnik '!H:H,'Troškovnik '!A:A,A30,'Troškovnik '!B:B,B30) -> 0
H31: =IF(OR(C31="DA",E31="DA"),COUNTIF(C31:E31,"DA"),"") | O31: =SUMIFS('Troškovnik '!H:H,'Troškovnik '!A:A,A31,'Troškovnik '!B:B,B31) -> 0
H32: =IF(OR(C32="DA",E32="DA"),COUNTIF(C32:E32,"DA"),"") | O32: =SUMIFS('Troškovnik '!H:H,'Troškovnik '!A:A,A32,'Troškovnik '!B:B,B32) -> 0
H33: =IF(OR(C33="DA",E33="DA"),COUNTIF(C33:E33,"DA"),"") | O33: =SUMIFS('Troškovnik '!H:H,'Troškovnik '!A:A,A33,'Troškovnik '!B:B,B33) -> 0
H34: =IF(OR(C34="DA",E34="DA"),COUNTIF(C34:E34,"DA"),"") | O34: =SUMIFS('Troškovnik '!H:H,'Troškovnik '!A:A,A34,'Troškovnik '!B:B,B34) -> 0
H35: =IF(OR(C35="DA",E35="DA"),COUNTIF(C35:E35,"DA"),"") | O35: =SUMIFS('Troškovnik '!H:H,'Troškovnik '!A:A,A35,'Troškovnik '!B:B,B35) -> 0
H36: =IF(OR(C36="DA",E36="DA"),COUNTIF(C36:E36,"DA"),"") | O36: =SUMIFS('Troškovnik '!H:H,'Troškovnik '!A:A,A36,'Troškovnik '!B:B,B36) -> 0
H37: =IF(OR(C37="DA",E37="DA"),COUNTIF(C37:E37,"DA"),"") | O37: =SUMIFS('Troškovnik '!H:H,'Troškovnik '!A:A,A37,'Troškovnik '!B:B,B37) -> 0
... H1488: =IF(OR(C1488="DA",E1488="DA"),COUNTIF(C1488:E1488,"DA"),"") | O1488: =SUMIFS('Troškovnik '!H:H,'Troškovnik '!A:A,A1488,'Troškovnik '!B:B,B1488) -> 0
H1489: =IF(OR(C1489="DA",E1489="DA"),COUNTIF(C1489:E1489,"DA"),"") | O1489: =SUMIFS('Troškovnik '!H:H,'Troškovnik '!A:A,A1489,'Troškovnik '!B:B,B1489) -> 0 | AM1489: Ne
H1490: =IF(OR(C1490="DA",E1490="DA"),COUNTIF(C1490:E1490,"DA"),"") | O1490: =SUMIFS('Troškovnik '!H:H,'Troškovnik '!A:A,A1490,'Troškovnik '!B:B,B1490) -> 0 | AM1490: Da
...

Sheet Troškovnik 
AE1: Sportski i tjelesni razvoj
A2: Poziv na dostavu projektnih prijedloga Podrška osnovnim školama za provedbu izvannastavnih aktivnosti kao pripreme za program cjelodnevne škole - drugi Poziv | AE2: Razvoj kreativnih i umjetničkih kompetencija
A3: Obrazac 3. - Podaci o izvannastavnim aktivnostima koji će se provoditi u sklopu projekta - TROŠKOVNIK | AE3: Razvoj digitalnih, informatičkih, odnosno kompetencija povezanih s uporabom novih tehnologija
A4: Naziv škole u kojoj se provodi izvannastavna aktivnost (molimo odabrati) | B4: Naziv izvannastavne aktivnosti/skupine (molimo odabrati) | C4: Stavka troška | D4: Obrazloženje troška | E4: Broj jedinica | F4: Jedinica | G4: Iznos po jedinici (EUR) | H4: Ukupni iznos (EUR) | AE4: Razvoj kompetencija i vještina učenja
H5: =E5*G5 -> 0
H6: =E6*G6 -> 0
H7: =E7*G7 -> 0
H8: =E8*G8 -> 0
H9: =E9*G9 -> 0
H10: =E10*G10 -> 0
H11: =E11*G11 -> 0
H12: =E12*G12 -> 0
H13: =E13*G13 -> 0
H14: =E14*G14 -> 0
H15: =E15*G15 -> 0
H16: =E16*G16 -> 0
... H3865: =E3865*G3865 -> 0

Sheet PROVJERA - Troškovnik
Z1: Sportski i tjelesni razvoj
A2: Poziv na dostavu projektnih prijedloga Podrška osnovnim školama za provedbu izvannastavnih aktivnosti kao pripreme za program cjelodnevne škole - drugi Poziv | Z2: Razvoj kreativnih i umjetničkih kompetencija
A3: Obrazac 3. - Podaci o izvannastavnim aktivnostima koji će se provoditi u sklopu projekta - TROŠKOVNIK (PROVJERA) | Z3: Razvoj digitalnih, informatičkih, odnosno kompetencija povezanih s uporabom novih tehnologija
B5: Provjera iznosa za organizaciju i provedbu izvannastavnih aktivnosti | F5: Provjera minimalnog i maksimalnog iznosa bespovratnih sredstava
B6: Broj skupina (MJERLJIVI ISHOD) | C6: Ograničenja iznosa za organizaciju i provedbu izvannastavnih aktivnosti (broj skupina * 2.000 EUR) | D6: Ukupni troškovi organizacije i provedbe izvannastavnih aktivnosti | F6: Minimalni iznos | G6: Broj učenika u školskoj godini 2026./2027. koji nastavu pohađaju u jednoj smjeni | H6: Maksimalni iznos (broj učenika * 500 EUR + 2.500 EUR + 2%) | Z6: Razvoj kompetencija i vještina učenja
B7: ='Podaci-izvannastavne aktivnosti'!Q7 -> 0 | C7: =B7*2000 -> 0 | D7: ='Podaci-izvannastavne aktivnosti'!P7 -> 0 | E7: =IF(D7>C7,"Troškovi premašuju ograničenje vezano za iznos po skupini","") | F7: 40000 | G7: =SUM(Pokazatelji!C6:C151) -> 0 | H7: =IF(G7=0,"",(G7*500)+(2500)+(0.02*((G7*500)+2500)))
H8: Provjeriti u odnosu na bespovratna sredstva navedena u Prijavnom obrascu (8 Sažetak proračuna)!

Sheet Pregled - Horizontalna načela
B1: Izvannastavne aktivnosti, po području: | C1: Broj programa | D1: Udio programa
A2: Da, potiče se razvoj digitalnih vještina | B2: razvoj digitalnih vještina | C2: =COUNTIF('Podaci-izvannastavne aktivnosti'!J:J,"program u području razvoja digitalnih vještina") -> 0 | D2: =IF(C5=0,"",C2/$C$5)
A3: Da, potiče se razvoj ekološke osviještenosti | B3: razvoj ekološke osviještenosti | C3: =COUNTIF('Podaci-izvannastavne aktivnosti'!J:J,"program u području razvoja ekološke osviještenosti") -> 0 | D3: =IF(C5=0,"",C3/$C$5)
A4: Da, potiče se nediskriminacija, ravnopravnost spolova i/ili pomoć pri učenju | B4: razvoj osobnih, socijalnih i interpersonalnih vještina kojim se potiču teme nediskriminacije i/ili ravnopravnosti spolova te programi usmjereni na podršku učenicima s teškoćama u razvoju i/ili pomoći u učenju | C4: =COUNTIF('Podaci-izvannastavne aktivnosti'!J:J,"program u području razvoja osobnih, socijalnih i interpersonalnih vještina kojim se potiču teme nediskriminacije i/ili ravnopravnosti spolova")+COUNTIF('Podaci-izvannastavne aktivnosti'!J:J,"program usmjeren na podršku učenicima s teškoćama u razvoju i/ili pomoć u učenju") -> 0 | D4: =IF(C5=0,"",C4/$C$5)
B5: Ukupno | C5: =COUNTA('Podaci-izvannastavne aktivnosti'!B7:B1577) -> 0
